BEGIN:VCALENDAR
VERSION:2.0
BEGIN:VEVENT
DTSTART;TZID=Europe/Stockholm:20310317T140000
DTEND;TZID=Europe/Stockholm:20310317T150000
DTSTAMP:20260424T121546
DESCRIPTION:
SEQUENCE:0
SUMMARY:*Stavgång i Kronoskogen*
UID:2698@lawebb.se
END:VEVENT
END:VCALENDAR