BEGIN:VCALENDAR
VERSION:2.0
BEGIN:VEVENT
DTSTART;TZID=Europe/Stockholm:20310310T140000
DTEND;TZID=Europe/Stockholm:20310310T150000
DTSTAMP:20260424T121245
DESCRIPTION:
SEQUENCE:0
SUMMARY:*Stavgång i Kronoskogen*
UID:8448@lawebb.se
END:VEVENT
END:VCALENDAR