BEGIN:VCALENDAR
VERSION:2.0
BEGIN:VEVENT
DTSTART;TZID=Europe/Stockholm:20310210T140000
DTEND;TZID=Europe/Stockholm:20310210T150000
DTSTAMP:20260424T110055
DESCRIPTION:
SEQUENCE:0
SUMMARY:*Stavgång i Kronoskogen*
UID:8882@lawebb.se
END:VEVENT
END:VCALENDAR