BEGIN:VCALENDAR
VERSION:2.0
BEGIN:VEVENT
DTSTART;TZID=Europe/Stockholm:20310203T140000
DTEND;TZID=Europe/Stockholm:20310203T150000
DTSTAMP:20260424T105418
DESCRIPTION:
SEQUENCE:0
SUMMARY:*Stavgång i Kronoskogen*
UID:9459@lawebb.se
END:VEVENT
END:VCALENDAR