BEGIN:VCALENDAR
VERSION:2.0
BEGIN:VEVENT
DTSTART;TZID=Europe/Stockholm:20310127T140000
DTEND;TZID=Europe/Stockholm:20310127T150000
DTSTAMP:20260424T093701
DESCRIPTION:
SEQUENCE:0
SUMMARY:*Stavgång i Kronoskogen*
UID:7288@lawebb.se
END:VEVENT
END:VCALENDAR