BEGIN:VCALENDAR
VERSION:2.0
BEGIN:VEVENT
DTSTART;TZID=Europe/Stockholm:20301223T140000
DTEND;TZID=Europe/Stockholm:20301223T150000
DTSTAMP:20260424T081959
DESCRIPTION:
SEQUENCE:0
SUMMARY:*Stavgång i Kronoskogen*
UID:5782@lawebb.se
END:VEVENT
END:VCALENDAR