BEGIN:VCALENDAR
VERSION:2.0
BEGIN:VEVENT
DTSTART;TZID=Europe/Stockholm:20301209T140000
DTEND;TZID=Europe/Stockholm:20301209T150000
DTSTAMP:20260424T082403
DESCRIPTION:
SEQUENCE:0
SUMMARY:*Stavgång i Kronoskogen*
UID:5749@lawebb.se
END:VEVENT
END:VCALENDAR