BEGIN:VCALENDAR
VERSION:2.0
BEGIN:VEVENT
DTSTART;TZID=Europe/Stockholm:20301021T140000
DTEND;TZID=Europe/Stockholm:20301021T150000
DTSTAMP:20260424T053207
DESCRIPTION:
SEQUENCE:0
SUMMARY:*Stavgång i Kronoskogen*
UID:5765@lawebb.se
END:VEVENT
END:VCALENDAR