BEGIN:VCALENDAR
VERSION:2.0
BEGIN:VEVENT
DTSTART;TZID=Europe/Stockholm:20300923T140000
DTEND;TZID=Europe/Stockholm:20300923T150000
DTSTAMP:20260424T040947
DESCRIPTION:
SEQUENCE:0
SUMMARY:*Stavgång i Kronoskogen*
UID:8657@lawebb.se
END:VEVENT
END:VCALENDAR