BEGIN:VCALENDAR
VERSION:2.0
BEGIN:VEVENT
DTSTART;TZID=Europe/Stockholm:20300916T140000
DTEND;TZID=Europe/Stockholm:20300916T150000
DTSTAMP:20260424T040657
DESCRIPTION:
SEQUENCE:0
SUMMARY:*Stavgång i Kronoskogen*
UID:6978@lawebb.se
END:VEVENT
END:VCALENDAR