BEGIN:VCALENDAR
VERSION:2.0
BEGIN:VEVENT
DTSTART;TZID=Europe/Stockholm:20300715T140000
DTEND;TZID=Europe/Stockholm:20300715T150000
DTSTAMP:20260424T010239
DESCRIPTION:
SEQUENCE:0
SUMMARY:*Stavgång i Kronoskogen*
UID:4859@lawebb.se
END:VEVENT
END:VCALENDAR