BEGIN:VCALENDAR
VERSION:2.0
BEGIN:VEVENT
DTSTART;TZID=Europe/Stockholm:20300513T140000
DTEND;TZID=Europe/Stockholm:20300513T150000
DTSTAMP:20260423T221643
DESCRIPTION:
SEQUENCE:0
SUMMARY:*Stavgång i Kronoskogen*
UID:3852@lawebb.se
END:VEVENT
END:VCALENDAR