BEGIN:VCALENDAR
VERSION:2.0
BEGIN:VEVENT
DTSTART;TZID=Europe/Stockholm:20300401T140000
DTEND;TZID=Europe/Stockholm:20300401T150000
DTSTAMP:20260423T205011
DESCRIPTION:
SEQUENCE:0
SUMMARY:*Stavgång i Kronoskogen*
UID:3796@lawebb.se
END:VEVENT
END:VCALENDAR