BEGIN:VCALENDAR
VERSION:2.0
BEGIN:VEVENT
DTSTART;TZID=Europe/Stockholm:20300318T140000
DTEND;TZID=Europe/Stockholm:20300318T150000
DTSTAMP:20260423T191552
DESCRIPTION:
SEQUENCE:0
SUMMARY:*Stavgång i Kronoskogen*
UID:6628@lawebb.se
END:VEVENT
END:VCALENDAR