BEGIN:VCALENDAR
VERSION:2.0
BEGIN:VEVENT
DTSTART;TZID=Europe/Stockholm:20300311T140000
DTEND;TZID=Europe/Stockholm:20300311T150000
DTSTAMP:20260423T192332
DESCRIPTION:
SEQUENCE:0
SUMMARY:*Stavgång i Kronoskogen*
UID:6437@lawebb.se
END:VEVENT
END:VCALENDAR