BEGIN:VCALENDAR
VERSION:2.0
BEGIN:VEVENT
DTSTART;TZID=Europe/Stockholm:20300225T140000
DTEND;TZID=Europe/Stockholm:20300225T150000
DTSTAMP:20260423T175726
DESCRIPTION:
SEQUENCE:0
SUMMARY:*Stavgång i Kronoskogen*
UID:6669@lawebb.se
END:VEVENT
END:VCALENDAR