BEGIN:VCALENDAR
VERSION:2.0
BEGIN:VEVENT
DTSTART;TZID=Europe/Stockholm:20300218T140000
DTEND;TZID=Europe/Stockholm:20300218T150000
DTSTAMP:20260423T175725
DESCRIPTION:
SEQUENCE:0
SUMMARY:*Stavgång i Kronoskogen*
UID:4385@lawebb.se
END:VEVENT
END:VCALENDAR