BEGIN:VCALENDAR
VERSION:2.0
BEGIN:VEVENT
DTSTART;TZID=Europe/Stockholm:20300204T140000
DTEND;TZID=Europe/Stockholm:20300204T150000
DTSTAMP:20260423T174955
DESCRIPTION:
SEQUENCE:0
SUMMARY:*Stavgång i Kronoskogen*
UID:5962@lawebb.se
END:VEVENT
END:VCALENDAR