BEGIN:VCALENDAR
VERSION:2.0
BEGIN:VEVENT
DTSTART;TZID=Europe/Stockholm:20300107T140000
DTEND;TZID=Europe/Stockholm:20300107T150000
DTSTAMP:20260423T163509
DESCRIPTION:
SEQUENCE:0
SUMMARY:*Stavgång i Kronoskogen*
UID:3229@lawebb.se
END:VEVENT
END:VCALENDAR