BEGIN:VCALENDAR
VERSION:2.0
BEGIN:VEVENT
DTSTART;TZID=Europe/Stockholm:20291217T140000
DTEND;TZID=Europe/Stockholm:20291217T150000
DTSTAMP:20260423T150131
DESCRIPTION:
SEQUENCE:0
SUMMARY:*Stavgång i Kronoskogen*
UID:2925@lawebb.se
END:VEVENT
END:VCALENDAR