BEGIN:VCALENDAR
VERSION:2.0
BEGIN:VEVENT
DTSTART;TZID=Europe/Stockholm:20291210T140000
DTEND;TZID=Europe/Stockholm:20291210T150000
DTSTAMP:20260423T150132
DESCRIPTION:
SEQUENCE:0
SUMMARY:*Stavgång i Kronoskogen*
UID:9399@lawebb.se
END:VEVENT
END:VCALENDAR