BEGIN:VCALENDAR
VERSION:2.0
BEGIN:VEVENT
DTSTART;TZID=Europe/Stockholm:20291112T140000
DTEND;TZID=Europe/Stockholm:20291112T150000
DTSTAMP:20260423T132313
DESCRIPTION:
SEQUENCE:0
SUMMARY:*Stavgång i Kronoskogen*
UID:3764@lawebb.se
END:VEVENT
END:VCALENDAR