BEGIN:VCALENDAR
VERSION:2.0
BEGIN:VEVENT
DTSTART;TZID=Europe/Stockholm:20291105T140000
DTEND;TZID=Europe/Stockholm:20291105T150000
DTSTAMP:20260423T131920
DESCRIPTION:
SEQUENCE:0
SUMMARY:*Stavgång i Kronoskogen*
UID:4392@lawebb.se
END:VEVENT
END:VCALENDAR