BEGIN:VCALENDAR
VERSION:2.0
BEGIN:VEVENT
DTSTART;TZID=Europe/Stockholm:20291015T140000
DTEND;TZID=Europe/Stockholm:20291015T150000
DTSTAMP:20260423T120345
DESCRIPTION:
SEQUENCE:0
SUMMARY:*Stavgång i Kronoskogen*
UID:7434@lawebb.se
END:VEVENT
END:VCALENDAR