BEGIN:VCALENDAR
VERSION:2.0
BEGIN:VEVENT
DTSTART;TZID=Europe/Stockholm:20291008T140000
DTEND;TZID=Europe/Stockholm:20291008T150000
DTSTAMP:20260423T120555
DESCRIPTION:
SEQUENCE:0
SUMMARY:*Stavgång i Kronoskogen*
UID:5424@lawebb.se
END:VEVENT
END:VCALENDAR