BEGIN:VCALENDAR
VERSION:2.0
BEGIN:VEVENT
DTSTART;TZID=Europe/Stockholm:20290924T140000
DTEND;TZID=Europe/Stockholm:20290924T150000
DTSTAMP:20260423T104045
DESCRIPTION:
SEQUENCE:0
SUMMARY:*Stavgång i Kronoskogen*
UID:4869@lawebb.se
END:VEVENT
END:VCALENDAR