BEGIN:VCALENDAR
VERSION:2.0
BEGIN:VEVENT
DTSTART;TZID=Europe/Stockholm:20290820T140000
DTEND;TZID=Europe/Stockholm:20290820T150000
DTSTAMP:20260423T091712
DESCRIPTION:
SEQUENCE:0
SUMMARY:*Stavgång i Kronoskogen*
UID:6497@lawebb.se
END:VEVENT
END:VCALENDAR