BEGIN:VCALENDAR
VERSION:2.0
BEGIN:VEVENT
DTSTART;TZID=Europe/Stockholm:20290730T140000
DTEND;TZID=Europe/Stockholm:20290730T150000
DTSTAMP:20260423T073726
DESCRIPTION:
SEQUENCE:0
SUMMARY:*Stavgång i Kronoskogen*
UID:4954@lawebb.se
END:VEVENT
END:VCALENDAR