BEGIN:VCALENDAR
VERSION:2.0
BEGIN:VEVENT
DTSTART;TZID=Europe/Stockholm:20290625T140000
DTEND;TZID=Europe/Stockholm:20290625T150000
DTSTAMP:20260423T014512
DESCRIPTION:
SEQUENCE:0
SUMMARY:*Stavgång i Kronoskogen*
UID:7977@lawebb.se
END:VEVENT
END:VCALENDAR