BEGIN:VCALENDAR
VERSION:2.0
BEGIN:VEVENT
DTSTART;TZID=Europe/Stockholm:20290618T140000
DTEND;TZID=Europe/Stockholm:20290618T150000
DTSTAMP:20260423T014435
DESCRIPTION:
SEQUENCE:0
SUMMARY:*Stavgång i Kronoskogen*
UID:9597@lawebb.se
END:VEVENT
END:VCALENDAR