BEGIN:VCALENDAR
VERSION:2.0
BEGIN:VEVENT
DTSTART;TZID=Europe/Stockholm:20290514T140000
DTEND;TZID=Europe/Stockholm:20290514T150000
DTSTAMP:20260422T235659
DESCRIPTION:
SEQUENCE:0
SUMMARY:*Stavgång i Kronoskogen*
UID:2788@lawebb.se
END:VEVENT
END:VCALENDAR