BEGIN:VCALENDAR
VERSION:2.0
BEGIN:VEVENT
DTSTART;TZID=Europe/Stockholm:20290326T140000
DTEND;TZID=Europe/Stockholm:20290326T150000
DTSTAMP:20260422T204639
DESCRIPTION:
SEQUENCE:0
SUMMARY:*Stavgång i Kronoskogen*
UID:4842@lawebb.se
END:VEVENT
END:VCALENDAR