BEGIN:VCALENDAR
VERSION:2.0
BEGIN:VEVENT
DTSTART;TZID=Europe/Stockholm:20290319T140000
DTEND;TZID=Europe/Stockholm:20290319T150000
DTSTAMP:20260422T205037
DESCRIPTION:
SEQUENCE:0
SUMMARY:*Stavgång i Kronoskogen*
UID:6374@lawebb.se
END:VEVENT
END:VCALENDAR