BEGIN:VCALENDAR
VERSION:2.0
BEGIN:VEVENT
DTSTART;TZID=Europe/Stockholm:20290129T140000
DTEND;TZID=Europe/Stockholm:20290129T150000
DTSTAMP:20260422T174932
DESCRIPTION:
SEQUENCE:0
SUMMARY:*Stavgång i Kronoskogen*
UID:5356@lawebb.se
END:VEVENT
END:VCALENDAR