BEGIN:VCALENDAR
VERSION:2.0
BEGIN:VEVENT
DTSTART;TZID=Europe/Stockholm:20290115T140000
DTEND;TZID=Europe/Stockholm:20290115T150000
DTSTAMP:20260422T175013
DESCRIPTION:
SEQUENCE:0
SUMMARY:*Stavgång i Kronoskogen*
UID:7354@lawebb.se
END:VEVENT
END:VCALENDAR