BEGIN:VCALENDAR
VERSION:2.0
BEGIN:VEVENT
DTSTART;TZID=Europe/Stockholm:20260427T140000
DTEND;TZID=Europe/Stockholm:20260427T150000
DTSTAMP:20260422T055840
DESCRIPTION:
SEQUENCE:0
SUMMARY:*Stavgång i Kronoskogen*
UID:5853@lawebb.se
END:VEVENT
END:VCALENDARBEGIN:VCALENDAR
VERSION:2.0
BEGIN:VEVENT
DTSTART;TZID=Europe/Stockholm:20290101T140000
DTEND;TZID=Europe/Stockholm:20290101T150000
DTSTAMP:20260422T175238
DESCRIPTION:
SEQUENCE:0
SUMMARY:*Stavgång i Kronoskogen*
UID:5672@lawebb.se
END:VEVENT
END:VCALENDAR