BEGIN:VCALENDAR
VERSION:2.0
BEGIN:VEVENT
DTSTART;TZID=Europe/Stockholm:20281225T140000
DTEND;TZID=Europe/Stockholm:20281225T150000
DTSTAMP:20260422T155419
DESCRIPTION:
SEQUENCE:0
SUMMARY:*Stavgång i Kronoskogen*
UID:4959@lawebb.se
END:VEVENT
END:VCALENDAR