BEGIN:VCALENDAR
VERSION:2.0
BEGIN:VEVENT
DTSTART;TZID=Europe/Stockholm:20281030T140000
DTEND;TZID=Europe/Stockholm:20281030T150000
DTSTAMP:20260422T123440
DESCRIPTION:
SEQUENCE:0
SUMMARY:*Stavgång i Kronoskogen*
UID:8778@lawebb.se
END:VEVENT
END:VCALENDAR