BEGIN:VCALENDAR
VERSION:2.0
BEGIN:VEVENT
DTSTART;TZID=Europe/Stockholm:20281002T140000
DTEND;TZID=Europe/Stockholm:20281002T150000
DTSTAMP:20260422T124419
DESCRIPTION:
SEQUENCE:0
SUMMARY:*Stavgång i Kronoskogen*
UID:8325@lawebb.se
END:VEVENT
END:VCALENDAR