BEGIN:VCALENDAR
VERSION:2.0
BEGIN:VEVENT
DTSTART;TZID=Europe/Stockholm:20280904T140000
DTEND;TZID=Europe/Stockholm:20280904T150000
DTSTAMP:20260422T110540
DESCRIPTION:
SEQUENCE:0
SUMMARY:*Stavgång i Kronoskogen*
UID:3962@lawebb.se
END:VEVENT
END:VCALENDAR