BEGIN:VCALENDAR
VERSION:2.0
BEGIN:VEVENT
DTSTART;TZID=Europe/Stockholm:20280828T140000
DTEND;TZID=Europe/Stockholm:20280828T150000
DTSTAMP:20260420T085941
DESCRIPTION:
SEQUENCE:0
SUMMARY:*Stavgång i Kronoskogen*
UID:5926@lawebb.se
END:VEVENT
END:VCALENDAR