BEGIN:VCALENDAR
VERSION:2.0
BEGIN:VEVENT
DTSTART;TZID=Europe/Stockholm:20280807T140000
DTEND;TZID=Europe/Stockholm:20280807T150000
DTSTAMP:20260420T090310
DESCRIPTION:
SEQUENCE:0
SUMMARY:*Stavgång i Kronoskogen*
UID:6493@lawebb.se
END:VEVENT
END:VCALENDAR