BEGIN:VCALENDAR
VERSION:2.0
BEGIN:VEVENT
DTSTART;TZID=Europe/Stockholm:20280724T140000
DTEND;TZID=Europe/Stockholm:20280724T150000
DTSTAMP:20260420T074510
DESCRIPTION:
SEQUENCE:0
SUMMARY:*Stavgång i Kronoskogen*
UID:5442@lawebb.se
END:VEVENT
END:VCALENDAR