BEGIN:VCALENDAR
VERSION:2.0
BEGIN:VEVENT
DTSTART;TZID=Europe/Stockholm:20280717T140000
DTEND;TZID=Europe/Stockholm:20280717T150000
DTSTAMP:20260420T074358
DESCRIPTION:
SEQUENCE:0
SUMMARY:*Stavgång i Kronoskogen*
UID:9754@lawebb.se
END:VEVENT
END:VCALENDAR