BEGIN:VCALENDAR
VERSION:2.0
BEGIN:VEVENT
DTSTART;TZID=Europe/Stockholm:20280703T140000
DTEND;TZID=Europe/Stockholm:20280703T150000
DTSTAMP:20260420T074454
DESCRIPTION:
SEQUENCE:0
SUMMARY:*Stavgång i Kronoskogen*
UID:4347@lawebb.se
END:VEVENT
END:VCALENDAR