BEGIN:VCALENDAR
VERSION:2.0
BEGIN:VEVENT
DTSTART;TZID=Europe/Stockholm:20280619T140000
DTEND;TZID=Europe/Stockholm:20280619T150000
DTSTAMP:20260420T061042
DESCRIPTION:
SEQUENCE:0
SUMMARY:*Stavgång i Kronoskogen*
UID:2656@lawebb.se
END:VEVENT
END:VCALENDAR