BEGIN:VCALENDAR
VERSION:2.0
BEGIN:VEVENT
DTSTART;TZID=Europe/Stockholm:20280424T140000
DTEND;TZID=Europe/Stockholm:20280424T150000
DTSTAMP:20260420T031237
DESCRIPTION:
SEQUENCE:0
SUMMARY:*Stavgång i Kronoskogen*
UID:2984@lawebb.se
END:VEVENT
END:VCALENDAR