BEGIN:VCALENDAR
VERSION:2.0
BEGIN:VEVENT
DTSTART;TZID=Europe/Stockholm:20280417T140000
DTEND;TZID=Europe/Stockholm:20280417T150000
DTSTAMP:20260420T030445
DESCRIPTION:
SEQUENCE:0
SUMMARY:*Stavgång i Kronoskogen*
UID:5392@lawebb.se
END:VEVENT
END:VCALENDAR