BEGIN:VCALENDAR
VERSION:2.0
BEGIN:VEVENT
DTSTART;TZID=Europe/Stockholm:20280410T140000
DTEND;TZID=Europe/Stockholm:20280410T150000
DTSTAMP:20260420T031131
DESCRIPTION:
SEQUENCE:0
SUMMARY:*Stavgång i Kronoskogen*
UID:4463@lawebb.se
END:VEVENT
END:VCALENDAR