BEGIN:VCALENDAR
VERSION:2.0
BEGIN:VEVENT
DTSTART;TZID=Europe/Stockholm:20280327T140000
DTEND;TZID=Europe/Stockholm:20280327T150000
DTSTAMP:20260420T012448
DESCRIPTION:
SEQUENCE:0
SUMMARY:*Stavgång i Kronoskogen*
UID:8839@lawebb.se
END:VEVENT
END:VCALENDAR